BEGIN:VCALENDAR
VERSION:2.0
PRODID:-//ChamberMaster//Event Calendar 2.0//EN
METHOD:PUBLISH
X-PUBLISHED-TTL:P3D
REFRESH-INTERVAL:P3D
CALSCALE:GREGORIAN
BEGIN:VEVENT
DTSTART:20181025T150000Z
DTEND:20181025T193000Z
X-MICROSOFT-CDO-ALLDAYEVENT:FALSE
SUMMARY:Public Blood Drive at JMU Festival
DESCRIPTION:Beta Alpha Psi will be hosting a blood drive at JMU Festival's Highland Room on Thursday\, October 26 from 11 am to 3 pm. Walk-ins are welcome\, but appointments are encouraged. To secure your spot\, visit https://donateblood.vablood.org.
X-ALT-DESC;FMTTYPE=text/html:Beta Alpha Psi will be hosting a blood drive at JMU Festival&rsquo\;s Highland Room on Thursday\, October 26 from 11 am to 3 pm. Walk-ins are welcome\, but appointments are encouraged.&nbsp\;To secure your spot\, visit <a href="https://donateblood.vablood.org/">https://donateblood.vablood.org</a>.
LOCATION:Highland Room\, JMU Festival Center 1301 Carrier Drive Harrisonburg VA 22807
UID:e.2338.6043
SEQUENCE:3
DTSTAMP:20260420T091757Z
URL:https://chamber.hrchamber.org/events/details/public-blood-drive-at-jmu-festival-10-25-2018-6043
END:VEVENT

END:VCALENDAR
