BEGIN:VCALENDAR
VERSION:2.0
PRODID:-//ChamberMaster//Event Calendar 2.0//EN
METHOD:PUBLISH
X-PUBLISHED-TTL:P3D
REFRESH-INTERVAL:P3D
CALSCALE:GREGORIAN
BEGIN:VEVENT
DTSTART:20180415T130000Z
DTEND:20180415T170000Z
X-MICROSOFT-CDO-ALLDAYEVENT:FALSE
SUMMARY:Public Blood Drive at First Church of the Nazarene
DESCRIPTION:Harrisonburg's First Church of the Nazarene is hosting a public Bloodmobile drive on Sunday\, April 15th from 9 am to 1 pm. Donors receive a thank-you tote bag\, while supplies last! Walk-ins are welcome\, but appointments are encouraged. To secure your spot\, visit https://donateblood.vablood.org.com
X-ALT-DESC;FMTTYPE=text/html:Harrisonburg&rsquo\;s First Church of the Nazarene is hosting a public Bloodmobile drive on Sunday\, April 15th from 9 am to 1 pm. Donors receive a thank-you tote bag\, while supplies last! Walk-ins are welcome\, but appointments are encouraged. To secure your spot\, visit https://donateblood.vablood.org.com
LOCATION:First Church of the Nazarene 1871 Boyers Road\, Harrisonburg
UID:e.2338.4754
SEQUENCE:3
DTSTAMP:20260420T114344Z
URL:https://chamber.hrchamber.org/events/details/public-blood-drive-at-first-church-of-the-nazarene-4754
END:VEVENT

END:VCALENDAR
