BEGIN:VCALENDAR
VERSION:2.0
PRODID:-//ChamberMaster//Event Calendar 2.0//EN
METHOD:PUBLISH
X-PUBLISHED-TTL:P3D
REFRESH-INTERVAL:P3D
CALSCALE:GREGORIAN
BEGIN:VEVENT
DTSTART:20181026T150000Z
DTEND:20181026T203000Z
X-MICROSOFT-CDO-ALLDAYEVENT:FALSE
SUMMARY:Public Blood Drive at EMU Campus Center
DESCRIPTION:Eastern Mennonite University is hosting a public blood drive at the Campus Center on Friday\, October 26 from 11 am to 4:30 pm. Walk-ins are welcome\, but appointments are encouraged. To secure your spot\, visit https://donateblood.vablood.org.
X-ALT-DESC;FMTTYPE=text/html:Eastern Mennonite University is hosting a public blood drive at the Campus Center on Friday\, October 26 from 11 am to 4:30 pm. Walk-ins are welcome\, but appointments are encouraged.&nbsp\;To secure your spot\, visit <a href="https://donateblood.vablood.org/">https://donateblood.vablood.org</a>.
LOCATION:First Floor\, EMU Campus Center 1200 Park Road Harrisonburg VA 22802
UID:e.2338.6044
SEQUENCE:3
DTSTAMP:20260420T091343Z
URL:https://chamber.hrchamber.org/events/details/public-blood-drive-at-emu-campus-center-6044
END:VEVENT

END:VCALENDAR
