BEGIN:VCALENDAR
VERSION:2.0
PRODID:-//ChamberMaster//Event Calendar 2.0//EN
METHOD:PUBLISH
X-PUBLISHED-TTL:P3D
REFRESH-INTERVAL:P3D
CALSCALE:GREGORIAN
BEGIN:VEVENT
DTSTART:20180511T180000Z
DTEND:20180511T220000Z
X-MICROSOFT-CDO-ALLDAYEVENT:FALSE
SUMMARY:Public Blood Drive at Elkton Area Community Center
DESCRIPTION:The Elkton Area Community Center\, in partnership with Charles Franklin Shuler Lodge No. 74 AF&AM and Ashlar Lodge No. 125 AF&AM\, is hosting a public blood drive on Friday\, May 11 from 2 pm to 6 pm. Walk-ins are welcome\, but appointments are encouraged. To secure your spot\, visit https://donateblood.vablood.org.
X-ALT-DESC;FMTTYPE=text/html:The Elkton Area Community Center\, in partnership with Charles Franklin Shuler Lodge No. 74 AF&amp\;AM and Ashlar Lodge No. 125 AF&amp\;AM\, is hosting a public blood drive on Friday\, May 11 from 2 pm to 6 pm. Walk-ins are welcome\, but appointments are encouraged. To secure your spot\, visit https://donateblood.vablood.org.
LOCATION:Elkton Area Community Center 20593 Blue and Gold Drive
UID:e.2338.5796
SEQUENCE:3
DTSTAMP:20260420T131818Z
URL:https://chamber.hrchamber.org/events/details/public-blood-drive-at-elkton-area-community-center-5796
END:VEVENT

END:VCALENDAR
