BEGIN:VCALENDAR
VERSION:2.0
PRODID:-//ChamberMaster//Event Calendar 2.0//EN
METHOD:PUBLISH
X-PUBLISHED-TTL:P3D
REFRESH-INTERVAL:P3D
CALSCALE:GREGORIAN
BEGIN:VEVENT
DTSTART:20180205T170000Z
DTEND:20180205T220000Z
X-MICROSOFT-CDO-ALLDAYEVENT:FALSE
SUMMARY:Public Blood Drive at Eastern Mennonite University
DESCRIPTION:Eastern Mennonite University is hosting a public blood drive in the Campus Center Commons area on Monday\, February 5 from 12 noon to 5 pm. Walk-ins are welcome\, but appointments are encouraged. To secure your spot\, visit https://donateblood.vablood.org.
X-ALT-DESC;FMTTYPE=text/html:Eastern Mennonite University is hosting a public blood drive in the Campus Center Commons area on Monday\, February 5 from 12 noon to 5 pm. Walk-ins are welcome\, but appointments are encouraged. To secure your spot\, visit https://donateblood.vablood.org.
LOCATION:Eastern Mennonite University Campus Center Commons
UID:e.2338.3604
SEQUENCE:3
DTSTAMP:20260420T100826Z
URL:https://chamber.hrchamber.org/events/details/public-blood-drive-at-eastern-mennonite-university-3604
END:VEVENT

END:VCALENDAR
