BEGIN:VCALENDAR
VERSION:2.0
PRODID:-//ChamberMaster//Event Calendar 2.0//EN
METHOD:PUBLISH
X-PUBLISHED-TTL:P3D
REFRESH-INTERVAL:P3D
CALSCALE:GREGORIAN
BEGIN:VEVENT
DTSTART:20180409T170000Z
DTEND:20180409T220000Z
X-MICROSOFT-CDO-ALLDAYEVENT:FALSE
SUMMARY:Public Blood Drive at Eastern Mennonite University
DESCRIPTION:Eastern Mennonite University is hosting a public blood drive in Campus Center on Monday\, April 9 from 1 pm to 6 pm. Donors receive a thank-you tote bag\, while supplies last! Walk-ins are welcome\, but appointments are encouraged. To secure your spot\, visit https://donateblood.vablood.org.
X-ALT-DESC;FMTTYPE=text/html:Eastern Mennonite University is hosting a public blood drive in Campus Center on Monday\, April 9 from 1 pm to 6 pm. Donors receive a thank-you tote bag\, while supplies last! Walk-ins are welcome\, but appointments are encouraged. To secure your spot\, visit https://donateblood.vablood.org.
LOCATION:Eastern Mennonite University Campus Center\, 1st Floor 1200 Park Road\, Harrisonburg
UID:e.2338.4752
SEQUENCE:3
DTSTAMP:20260420T114115Z
URL:https://chamber.hrchamber.org/events/details/public-blood-drive-at-eastern-mennonite-university-04-09-2018-4752
END:VEVENT

END:VCALENDAR
