BEGIN:VCALENDAR
VERSION:2.0
PRODID:-//ChamberMaster//Event Calendar 2.0//EN
METHOD:PUBLISH
X-PUBLISHED-TTL:P3D
REFRESH-INTERVAL:P3D
CALSCALE:GREGORIAN
BEGIN:VEVENT
DTSTART:20170817T063000Z
DTEND:20170817T233000Z
X-MICROSOFT-CDO-ALLDAYEVENT:FALSE
SUMMARY:Public Blood Drive at Dayton Mennonite Church
DESCRIPTION:Dayton Mennonite Church will be hosting a public blood drive on Thursday\, August 17th from 2:30 pm to 7:30 pm in the Church's Social Hall. Free lunch totes for all donors\, while supplies last! Walk-ins are welcome\, but appointments are encouraged. To secure your spot\, call Evelyn Brubaker at 540/828-4295 or visit https://donateblood.vablood.org. Be a summer life-saver   donate blood and help save lives!
X-ALT-DESC;FMTTYPE=text/html:Dayton Mennonite Church will be hosting a public blood drive on Thursday\, August 17th from 2:30 pm to 7:30 pm in the Church&rsquo\;s Social Hall. Free lunch totes for all donors\, while supplies last! Walk-ins are welcome\, but appointments are encouraged. To secure your spot\, call Evelyn Brubaker at 540/828-4295 or visit https://donateblood.vablood.org. Be a summer life-saver &ndash\; donate blood and help save lives!
LOCATION:Dayton Mennonite Church 4887 John Wayland Highway Dayton
UID:e.2338.3187
SEQUENCE:3
DTSTAMP:20260419T234800Z
URL:https://chamber.hrchamber.org/events/details/public-blood-drive-at-dayton-mennonite-church-3187
END:VEVENT

END:VCALENDAR
