BEGIN:VCALENDAR
VERSION:2.0
PRODID:-//ChamberMaster//Event Calendar 2.0//EN
METHOD:PUBLISH
X-PUBLISHED-TTL:P3D
REFRESH-INTERVAL:P3D
CALSCALE:GREGORIAN
BEGIN:VEVENT
DTSTART:20180426T183000Z
DTEND:20180426T233000Z
X-MICROSOFT-CDO-ALLDAYEVENT:FALSE
SUMMARY:Public Blood Drive at Dayton Mennonite Church
DESCRIPTION:Dayton Mennonite Church is hosting a public blood drive on Thursday\, April 26th from 2:30 pm to 7:30 pm. Donors receive a thank-you tote bag\, while supplies last! Walk-ins are welcome\, but appointments are encouraged. To secure your spot\, please call Evelyn Brubaker at 540/828-4295.
X-ALT-DESC;FMTTYPE=text/html:Dayton Mennonite Church is hosting a public blood drive on Thursday\, April 26th from 2:30 pm to 7:30 pm. Donors receive a thank-you tote bag\, while supplies last! Walk-ins are welcome\, but appointments are encouraged. To secure your spot\, please call Evelyn Brubaker at 540/828-4295.
LOCATION:Dayton Mennonite Church 4887 John Wayland Highway\, Dayton
UID:e.2338.4755
SEQUENCE:3
DTSTAMP:20260420T114313Z
URL:https://chamber.hrchamber.org/events/details/public-blood-drive-at-dayton-mennonite-church-04-26-2018-4755
END:VEVENT

END:VCALENDAR
