BEGIN:VCALENDAR
VERSION:2.0
PRODID:-//ChamberMaster//Event Calendar 2.0//EN
METHOD:PUBLISH
X-PUBLISHED-TTL:P3D
REFRESH-INTERVAL:P3D
CALSCALE:GREGORIAN
BEGIN:VEVENT
DTSTART:20180215T193000Z
DTEND:20180216T003000Z
X-MICROSOFT-CDO-ALLDAYEVENT:FALSE
SUMMARY:Public Blood Drive at Dayton Mennonite Church
DESCRIPTION:Dayton Mennonite Church on John Wayland Highway is sponsoring a public blood drive on Thursday\, February 15 from 2:30 pm to 7:30 pm. Walk-ins are welcome\, but appointments are encouraged. To secure your spot\, please call Evelyn Brubaker at 540/828-4295.
X-ALT-DESC;FMTTYPE=text/html:Dayton Mennonite Church on John Wayland Highway is sponsoring a public blood drive on Thursday\, February 15 from 2:30 pm to 7:30 pm. Walk-ins are welcome\, but appointments are encouraged. To secure your spot\, please call Evelyn Brubaker at 540/828-4295.
LOCATION:Dayton Mennonite Church John Wayland Highway\, Dayton
UID:e.2338.3607
SEQUENCE:3
DTSTAMP:20260420T101146Z
URL:https://chamber.hrchamber.org/events/details/public-blood-drive-at-dayton-mennonite-church-02-15-2018-3607
END:VEVENT

END:VCALENDAR
