BEGIN:VCALENDAR
VERSION:2.0
PRODID:-//ChamberMaster//Event Calendar 2.0//EN
METHOD:PUBLISH
X-PUBLISHED-TTL:P3D
REFRESH-INTERVAL:P3D
CALSCALE:GREGORIAN
BEGIN:VEVENT
DTSTART:20180917T150000Z
DTEND:20180917T220000Z
X-MICROSOFT-CDO-ALLDAYEVENT:FALSE
SUMMARY:Public blood drive at Bridgewater College
DESCRIPTION:Bridgewater  College's football team is hosting a public blood drive in the Funkhouser Center on Monday\, September 17 from 11 am to 6 pm.  Walk-ins are welcome\, but appointments are encouraged.  To secure your spot\, visit https://donateblood.vablood.org.
X-ALT-DESC;FMTTYPE=text/html:Bridgewater&nbsp\; College&rsquo\;s football team is hosting a public blood drive in the Funkhouser Center on Monday\, September 17 from 11 am to 6 pm.&nbsp\; Walk-ins are welcome\, but appointments are encouraged.&nbsp\; To secure your spot\, visit <a href="https://donateblood.vablood.org/">https://donateblood.vablood.org</a>.
LOCATION:Funkhouser Center for Health and Wellness 117 College View Drive Bridgewater VA 22812
UID:e.2338.5953
SEQUENCE:3
DTSTAMP:20260420T104628Z
URL:https://chamber.hrchamber.org/events/details/public-blood-drive-at-bridgewater-college-09-17-2018-5953
END:VEVENT

END:VCALENDAR
