BEGIN:VCALENDAR
VERSION:2.0
PRODID:-//ChamberMaster//Event Calendar 2.0//EN
METHOD:PUBLISH
X-PUBLISHED-TTL:P3D
REFRESH-INTERVAL:P3D
CALSCALE:GREGORIAN
BEGIN:VEVENT
DTSTART:20180520T140000Z
DTEND:20180520T180000Z
X-MICROSOFT-CDO-ALLDAYEVENT:FALSE
SUMMARY:Public Blood Drive at Bridgewater Church of the Brethren
DESCRIPTION:Bridgewater Church of the Brethren will host a public Blood Drive on Sunday\, May 20 from 10 am to 2 pm. Walk-ins are welcome\, but appointments are encouraged. To secure your spot\, visit https://donateblood.vablood.org.
X-ALT-DESC;FMTTYPE=text/html:Bridgewater Church of the Brethren will host a public Blood Drive on Sunday\, May 20 from 10 am to 2 pm. Walk-ins are welcome\, but appointments are encouraged. To secure your spot\, visit https://donateblood.vablood.org.
LOCATION:Bridgewater Church of the Brethren 420 College View Drive
UID:e.2338.5800
SEQUENCE:3
DTSTAMP:20260420T132007Z
URL:https://chamber.hrchamber.org/events/details/public-blood-drive-at-bridgewater-church-of-the-brethren-5800
END:VEVENT

END:VCALENDAR
