BEGIN:VCALENDAR
VERSION:2.0
PRODID:-//ChamberMaster//Event Calendar 2.0//EN
METHOD:PUBLISH
X-PUBLISHED-TTL:P3D
REFRESH-INTERVAL:P3D
CALSCALE:GREGORIAN
BEGIN:VEVENT
DTSTART:20171206T123000Z
DTEND:20171206T140000Z
X-MICROSOFT-CDO-ALLDAYEVENT:FALSE
SUMMARY:Pre-Session Legislative Breakfast
DESCRIPTION:The Harrisonburg-Rockingham Chamber of Commerce and the Shenandoah Valley Technology Council together host the Annual Pre-Session Legislative Breakfast at JMU Festival and Conference Center. This is a time that we listen to and engage with our area legislators about issues affecting business in Harrisonburg and Rockingham County.
X-ALT-DESC;FMTTYPE=text/html:The Harrisonburg-Rockingham Chamber of Commerce and the Shenandoah Valley Technology Council together host the Annual Pre-Session Legislative Breakfast at <span data-scayt-lang="en_US" data-scayt-word="JMU">JMU</span> Festival and Conference Center. This is a time that we listen to and engage with our area legislators about issues affecting business in Harrisonburg and Rockingham County.<br />\n&nbsp\;
LOCATION:JMU Festival and Conference Center
UID:e.2338.3314
SEQUENCE:3
DTSTAMP:20260420T054541Z
URL:https://chamber.hrchamber.org/events/details/pre-session-legislative-breakfast-3314
END:VEVENT

END:VCALENDAR
