BEGIN:VCALENDAR
VERSION:2.0
PRODID:-//ChamberMaster//Event Calendar 2.0//EN
METHOD:PUBLISH
X-PUBLISHED-TTL:P3D
REFRESH-INTERVAL:P3D
CALSCALE:GREGORIAN
BEGIN:VEVENT
DTSTART:20161207T123000Z
DTEND:20161207T140000Z
X-MICROSOFT-CDO-ALLDAYEVENT:FALSE
SUMMARY:Pre-Session Legislative Breakfast
DESCRIPTION:The Shenandoah Valley Technology Council and the Harrisonburg-Rockingham Chamber of Commerce together host the Annual Pre-Session Legislative Breakfast at JMU Festival and Conference Center. This is a time that we listen to and engage with our area legislators about issues affecting business in Harrisonburg and Rockingham County.
X-ALT-DESC;FMTTYPE=text/html:<span style="font-family:trebuchet ms\,sans-serif\;"><span style="font-size:10pt\;">The Shenandoah Valley Technology Council and the Harrisonburg-Rockingham Chamber of Commerce together host the Annual Pre-Session Legislative Breakfast at JMU Festival and Conference Center. This is a time that we listen to and engage with our area legislators about issues affecting business in Harrisonburg and Rockingham County.</span></span>
LOCATION:JMU Festival Conference Center 1301 Carrier Dr. MSC 4201 Harrisonburg\, VA 22807
UID:e.2338.1510
SEQUENCE:3
DTSTAMP:20260419T124735Z
URL:https://chamber.hrchamber.org/events/details/pre-session-legislative-breakfast-1510
END:VEVENT

END:VCALENDAR
