BEGIN:VCALENDAR
VERSION:2.0
PRODID:-//ChamberMaster//Event Calendar 2.0//EN
METHOD:PUBLISH
X-PUBLISHED-TTL:P3D
REFRESH-INTERVAL:P3D
CALSCALE:GREGORIAN
BEGIN:VEVENT
DTSTART:20170502T113000Z
DTEND:20170502T130000Z
X-MICROSOFT-CDO-ALLDAYEVENT:FALSE
SUMMARY:Post-Session Legislative Breakfast
DESCRIPTION:We're looking forward to having Delegates Steve Landes and Tony Wilt and Senators Mark Obenshain and Emmett Hanger give their views of the session and what it means for business in The Valley.
X-ALT-DESC;FMTTYPE=text/html:We&#39\;re looking forward to having Delegates Steve Landes and Tony Wilt and Senators Mark Obenshain and Emmett Hanger give their views of the session and what it means for business in The Valley.
LOCATION:VMRC - 1481 Virginia Ave\, Harrisonburg\, VA 22802 Detwiler Auditorium
UID:e.2338.1729
SEQUENCE:3
DTSTAMP:20260419T191619Z
URL:https://chamber.hrchamber.org/events/details/post-session-legislative-breakfast-1729
END:VEVENT

END:VCALENDAR
