BEGIN:VCALENDAR
VERSION:2.0
PRODID:-//ChamberMaster//Event Calendar 2.0//EN
METHOD:PUBLISH
X-PUBLISHED-TTL:P3D
REFRESH-INTERVAL:P3D
CALSCALE:GREGORIAN
BEGIN:VEVENT
DTSTART:20181102T210000Z
DTEND:20181103T003000Z
X-MICROSOFT-CDO-ALLDAYEVENT:FALSE
SUMMARY:POP! Goes the wedding showcase
DESCRIPTION:Discover the secret of having your wedding in the best venues with the most beautiful decor at a fraction of the average wedding cost!\n\n\n \n\nWHY SHOULD YOU COME?\n\nThe Wishing Well will introduce a revolutionary wedding concept that will guarantee to save you thousands of dollars on your wedding budget. Combine it with an exotic honeymoon and still SAVE THOUSANDS!\n\nTHIS IS NOT YOUR TYPICAL WEDDING SHOW!\n\n\nEVENT VENDORS:\n\n\n	The Wishing Well\n	Sandals Resorts\n	Ward Photography\n	Frederick & Reid Photography\n	Reflections Bridal\n	Classic Tuxedos\n	Grand Caverns\n	Shenandoah Provisions Catering\n	+ more\n\n\nOne lucky couple will WIN A BEAUTIFUL WEDDING CEREMONY OR VOW RENEWAL. You must be present to win!\n\nWho should attend:\n\n* Brides looking for cost-saving alternatives for their wedding\n\n* Parents that may be paying the wedding costs\n\n* Couples who are paying most of their wedding expenses themselves\n\n* Couples paying off college debt but still want a great wedding and honeymoon\n\n* Couples who really want an intimate\, romantic\, or out-of-the-box wedding experience\n\n* Couples who never had a formal wedding and would have if circumstances had permitted\n\n* Couples who want to renew their vows\n\n\n\nClick here to register
X-ALT-DESC;FMTTYPE=text/html:<p font-size:="" helvetica="" letter-spacing:="" neue="" style="margin: 0px\; padding: 10px 0px 0px\; color: rgb(111\, 114\, 135)\; font-family: ">Discover the secret of having your wedding in the best venues with the most beautiful decor at a fraction of the average wedding cost!</p>\n\n<hr font-size:="" helvetica="" letter-spacing:="" neue="" style="border-top-color: rgb(219\, 218\, 227)\; height: 0px\; margin: 0px\; box-sizing: content-box\; color: rgb(111\, 114\, 135)\; font-family: " />\n<p font-size:="" helvetica="" letter-spacing:="" neue="" style="margin: 0px\; padding: 10px 0px 0px\; color: rgb(111\, 114\, 135)\; font-family: ">&nbsp\;</p>\n\n<h2 helvetica="" letter-spacing:="" neue="" style="margin: 0px\; padding: 10px 0px 0px\; color: rgb(30\, 10\, 60)\; font-size: 17px\; line-height: 21px\; font-weight: 600\; font-family: "><span style="padding-top: 0px\;">WHY SHOULD YOU COME?</span></h2>\n\n<p font-size:="" helvetica="" letter-spacing:="" neue="" style="margin: 0px\; padding: 10px 0px 0px\; color: rgb(111\, 114\, 135)\; font-family: ">The Wishing Well will introduce a&nbsp\;<span style="font-weight: 700\; padding-top: 0px\;">revolutionary wedding concept</span>&nbsp\;that will guarantee to&nbsp\;<span style="font-weight: 700\;">save you thousands of dollars</span>&nbsp\;on your wedding budget. Combine it with an exotic honeymoon and still SAVE THOUSANDS!</p>\n\n<p font-size:="" helvetica="" letter-spacing:="" neue="" style="margin: 0px\; padding: 10px 0px 0px\; color: rgb(111\, 114\, 135)\; font-family: "><span style="font-weight: 700\; padding-top: 0px\;">THIS IS NOT YOUR TYPICAL WEDDING SHOW!</span></p>\n\n<hr font-size:="" helvetica="" letter-spacing:="" neue="" style="border-top-color: rgb(219\, 218\, 227)\; height: 0px\; margin: 0px\; box-sizing: content-box\; color: rgb(111\, 114\, 135)\; font-family: " />\n<h3 helvetica="" letter-spacing:="" neue="" style="margin: 0px\; padding: 10px 0px 0px\; color: rgb(30\, 10\, 60)\; font-size: 17px\; line-height: 21px\; font-family: ">EVENT VENDORS:</h3>\n\n<ul font-size:="" helvetica="" letter-spacing:="" neue="" style="margin: 0px\; padding-top: 10px\; padding-right: 0px\; padding-left: 2em\; list-style-position: initial\; list-style-image: initial\; color: rgb(111\, 114\, 135)\; font-family: ">\n	<li style="margin: 0px\; padding: 0px\;">The Wishing Well</li>\n	<li style="margin: 0px\; padding: 5px 0px 0px\;">Sandals Resorts</li>\n	<li style="margin: 0px\; padding: 5px 0px 0px\;">Ward Photography</li>\n	<li style="margin: 0px\; padding: 5px 0px 0px\;">Frederick &amp\; Reid Photography</li>\n	<li style="margin: 0px\; padding: 5px 0px 0px\;">Reflections Bridal</li>\n	<li style="margin: 0px\; padding: 5px 0px 0px\;">Classic Tuxedos</li>\n	<li style="margin: 0px\; padding: 5px 0px 0px\;">Grand Caverns</li>\n	<li style="margin: 0px\; padding: 5px 0px 0px\;">Shenandoah Provisions Catering</li>\n	<li style="margin: 0px\; padding: 5px 0px 0px\;">+ more</li>\n</ul>\n\n<p font-size:="" helvetica="" letter-spacing:="" neue="" style="margin: 0px\; padding: 10px 0px 0px\; color: rgb(111\, 114\, 135)\; font-family: ">One lucky couple will&nbsp\;<span style="font-weight: 700\; padding-top: 0px\;">WIN A BEAUTIFUL WEDDING CEREMONY OR VOW RENEWAL</span>. You must be present to win!</p>\n\n<p font-size:="" helvetica="" letter-spacing:="" neue="" style="margin: 0px\; padding: 10px 0px 0px\; color: rgb(111\, 114\, 135)\; font-family: "><span style="font-weight: 700\; padding-top: 0px\;">Who should attend:</span><br />\n* Brides looking for cost-saving alternatives for their wedding<br />\n* Parents that may be paying the wedding costs<br />\n* Couples who are paying most of their wedding expenses themselves<br />\n* Couples paying off college debt but still want a great wedding and honeymoon<br />\n* Couples who really want an intimate\, romantic\, or out-of-the-box wedding experience<br />\n* Couples who never had a formal wedding and would have if circumstances had permitted<br />\n* Couples who want to renew their vows<br />\n<br />\n<a href="https://www.eventbrite.com/e/pop-goes-the-wedding-dream-weddings-for-less-tickets-51039456388?aff=efbeventtix&amp\;fbclid=IwAR2KZmbL8DzCLq_Dnvaq6RW0qEnIm2SKyW6VvFno5C1fK0XnHrtIUGpILHw"><u><strong><span style="font-size:14px\;">Click here to register</span></strong></u></a></p>\n
LOCATION:DoubleTree by Hilton Harrisonburg 1400 East Market Street Ballroom Harrisonburg\, VA 2280
UID:e.2338.6095
SEQUENCE:3
DTSTAMP:20260420T074543Z
URL:https://chamber.hrchamber.org/events/details/pop-goes-the-wedding-showcase-6095
END:VEVENT

END:VCALENDAR
