BEGIN:VCALENDAR
VERSION:2.0
PRODID:-//ChamberMaster//Event Calendar 2.0//EN
METHOD:PUBLISH
X-PUBLISHED-TTL:P3D
REFRESH-INTERVAL:P3D
CALSCALE:GREGORIAN
BEGIN:VEVENT
DTSTART:20160528T170000Z
DTEND:20160528T180000Z
X-MICROSOFT-CDO-ALLDAYEVENT:FALSE
SUMMARY:Playful Puppets @ Central Library
DESCRIPTION:Theme: "Summer Reading: Read for the Win."
X-ALT-DESC;FMTTYPE=text/html:Theme: &quot\;Summer Reading: Read for the Win.&quot\;
LOCATION:Central Library
UID:e.2338.374
SEQUENCE:3
DTSTAMP:20260422T044948Z
URL:https://chamber.hrchamber.org/events/details/playful-puppets-central-library-05-28-2016-374
END:VEVENT

END:VCALENDAR
