BEGIN:VCALENDAR
VERSION:2.0
PRODID:-//ChamberMaster//Event Calendar 2.0//EN
METHOD:PUBLISH
X-PUBLISHED-TTL:P3D
REFRESH-INTERVAL:P3D
CALSCALE:GREGORIAN
BEGIN:VEVENT
DTSTART:20160221T190000Z
DTEND:20160221T213000Z
X-MICROSOFT-CDO-ALLDAYEVENT:FALSE
SUMMARY:Play for Literacy Scrabble Tournament
DESCRIPTION:Come and play SCRABBLE and support adult literacy programs in our community! Win prizes! Support a good cause! This will be Skyline?s first fundraising event in 2016 and we are hoping to start the year off with a great response from the community. This is a TEAM PLAY tournament. Bring your team of 3 or come on your own and join a team at the event and make new friends! Prizes will be awarded in several categories! Please come and be a part of this fun event and support literacy in our community! Play for Literacy T-Shirts and Totebags now on sale at the Skyline Literacy office! T-Shirts are $10\, Totebags are $5.
X-ALT-DESC;FMTTYPE=text/html:Come and play SCRABBLE and support adult literacy programs in our community! Win prizes! Support a good cause! This will be Skyline?s first fundraising event in 2016 and we are hoping to start the year off with a great response from the community. This is a TEAM PLAY tournament. Bring your team of 3 or come on your own and join a team at the event and make new friends! Prizes will be awarded in several categories! Please come and be a part of this fun event and support literacy in our community! Play for Literacy T-Shirts and Totebags now on sale at the Skyline Literacy office! T-Shirts are $10\, Totebags are $5.
LOCATION:Skyline Middle School\, 470 Linda Lane\, Harrisonburg\, VA
UID:e.2338.317
SEQUENCE:3
DTSTAMP:20260422T095443Z
URL:https://chamber.hrchamber.org/events/details/play-for-literacy-scrabble-tournament-02-21-2016-317
END:VEVENT

END:VCALENDAR
