BEGIN:VCALENDAR
VERSION:2.0
PRODID:-//ChamberMaster//Event Calendar 2.0//EN
METHOD:PUBLISH
X-PUBLISHED-TTL:P3D
REFRESH-INTERVAL:P3D
CALSCALE:GREGORIAN
BEGIN:VEVENT
DTSTART:20190301T170000Z
DTEND:20190301T183000Z
X-MICROSOFT-CDO-ALLDAYEVENT:FALSE
SUMMARY:Piecing Together Your People Puzzles- Effective Workplace Communication
DESCRIPTION:If you've ever wondered why what you said or did wasn't what someone else understood\, here's your chance to get an introduction to a set of tools that close this kind of gap! This engaging session will provide an easy way to begin to understand the patterns of people\; People Puzzles\, if you will...\n\nIn just over an hour\, we'll cover the information necessary for defining a starting point for making any personal or business interaction you have more effective.\n\nThis session is being offered at NO COST to give you an opportunity to see how this content can make an immediate impact on your organization's productivity\, profitability\, and overall culture! If you're looking for a way to be effective in every communication\, this will provide you with an understanding of how you're wired\, ways to quickly recognize the personality style of the person you're communicating with\, and how to adapt to the situation so you can achieve the results you're after!
X-ALT-DESC;FMTTYPE=text/html:<div>\n<div>\n<p>If you&#39\;ve ever wondered why what you said or did wasn&#39\;t what someone else understood\, here&#39\;s your chance to get an introduction to a set of tools that close this kind of gap! This engaging session will provide an easy way to begin to understand the patterns of people\; <strong>People</strong> <strong>Puzzles</strong>\, if you will...</p>\n\n<p>In just over an hour\, we&#39\;ll cover the information necessary for defining a starting point for making any personal or business interaction you have more effective.</p>\n\n<p>This session is being offered at <strong><em>NO COST</em></strong> to give you an opportunity to see how this content can make an immediate impact on your organization&#39\;s productivity\, profitability\, and overall culture! If you&#39\;re looking for a way to be effective in every communication\, this will provide you with an understanding of how you&#39\;re wired\, ways to quickly recognize the personality style of the person you&#39\;re communicating with\, and how to adapt to the situation so you can achieve the results you&#39\;re after!</p>\n</div>\n</div>\n
LOCATION:Harrisonburg-Rockingham Chamber of Commerce 800 Country Club Rd Harrisonburg\, VA 22802
UID:e.2338.6343
SEQUENCE:3
DTSTAMP:20260420T013029Z
URL:https://chamber.hrchamber.org/events/details/piecing-together-your-people-puzzles-effective-workplace-communication-6343
END:VEVENT

END:VCALENDAR
