BEGIN:VCALENDAR
VERSION:2.0
PRODID:-//ChamberMaster//Event Calendar 2.0//EN
METHOD:PUBLISH
X-PUBLISHED-TTL:P3D
REFRESH-INTERVAL:P3D
CALSCALE:GREGORIAN
BEGIN:VEVENT
DTSTART:20180910T180000Z
DTEND:20180910T200000Z
X-MICROSOFT-CDO-ALLDAYEVENT:FALSE
SUMMARY:Piecing Together Your People Puzzles: Covering The Foundations of The Model of Human Behavior
DESCRIPTION:
X-ALT-DESC;FMTTYPE=text/html:
LOCATION:Harrisonburg-Rockingham Chamber of Commerce 800 Country Club Road Harrisonburg\, VA 22802
UID:e.2338.5915
SEQUENCE:3
DTSTAMP:20260420T104934Z
URL:https://chamber.hrchamber.org/events/details/piecing-together-your-people-puzzles-covering-the-foundations-of-the-model-of-human-behavior-5915
END:VEVENT

END:VCALENDAR
