BEGIN:VCALENDAR
VERSION:2.0
PRODID:-//ChamberMaster//Event Calendar 2.0//EN
METHOD:PUBLISH
X-PUBLISHED-TTL:P3D
REFRESH-INTERVAL:P3D
CALSCALE:GREGORIAN
BEGIN:VEVENT
DTSTART:20170609T140000Z
DTEND:20170609T180000Z
X-MICROSOFT-CDO-ALLDAYEVENT:FALSE
SUMMARY:Pendleton Community Bank - Customer Appreciation Day
DESCRIPTION:We've dedicated a day to just say THANKS! Stop by to enjoy hotdogs\, popcorn & drinks at one of our Harrisonburg financial centers and discover why we want to be "Your Bank". Come meet our teams and register for door prizes.
X-ALT-DESC;FMTTYPE=text/html:We&#39\;ve dedicated a day to just say THANKS! Stop by to enjoy hotdogs\, popcorn &amp\; drinks at one of our Harrisonburg financial centers and discover why we want to be &quot\;Your Bank&quot\;. Come meet our teams and register for door prizes.
LOCATION:57 S. Main St\, Harrisonburg VA 41 Monte Vista Dr.\, Harrisonburg VA
UID:e.2338.2857
SEQUENCE:3
DTSTAMP:20260419T205021Z
URL:https://chamber.hrchamber.org/events/details/pendleton-community-bank-customer-appreciation-day-2857
END:VEVENT

END:VCALENDAR
