BEGIN:VCALENDAR
VERSION:2.0
PRODID:-//ChamberMaster//Event Calendar 2.0//EN
METHOD:PUBLISH
X-PUBLISHED-TTL:P3D
REFRESH-INTERVAL:P3D
CALSCALE:GREGORIAN
BEGIN:VEVENT
DTSTART:20190502T210000Z
DTEND:20190502T230000Z
X-MICROSOFT-CDO-ALLDAYEVENT:FALSE
SUMMARY:PBMares Business After Hours
DESCRIPTION:
X-ALT-DESC;FMTTYPE=text/html:
LOCATION:558 S Main Street Harrisonburg\, VA 22801
UID:e.2338.6139
SEQUENCE:3
DTSTAMP:20260419T224431Z
URL:https://chamber.hrchamber.org/events/details/pbmares-business-after-hours-6139
END:VEVENT

END:VCALENDAR
