BEGIN:VCALENDAR
VERSION:2.0
PRODID:-//ChamberMaster//Event Calendar 2.0//EN
METHOD:PUBLISH
X-PUBLISHED-TTL:P3D
REFRESH-INTERVAL:P3D
CALSCALE:GREGORIAN
BEGIN:VEVENT
DTSTART:20190618T230000Z
DTEND:20190619T003000Z
X-MICROSOFT-CDO-ALLDAYEVENT:FALSE
SUMMARY:Parkinson's Disease Clinic
DESCRIPTION:Parkinson's Disease Clinic\n\nTuesday\, June 18th from 7pm - 8:30 pm\n\n\n\nPlease call (540)209-8977 or (540)901-9501 to reserve your seat!\n\n\n\nCome early to participate and learn some PWR!  Moves in an interactive workshop from 6:15 pm - 6:45 pm!
X-ALT-DESC;FMTTYPE=text/html:Parkinson&#39\;s Disease Clinic<br />\nTuesday\, June 18th from 7pm - 8:30 pm<br />\n<br />\nPlease call (540)209-8977 or (540)901-9501 to reserve your seat!<br />\n<br />\n<span style="font-family:comic sans ms"><strong><em><span style="color:#cc0033">Come early to participate and learn some PWR!&reg\; Moves in an interactive workshop from 6:15 pm - 6:45 pm!</span></em></strong></span>
LOCATION:Appalachian Physical Therapy (Harrisonburg Office) Located between Kohl's and Martin's Supermarket 2035 E Market St Suite 45
UID:e.2338.6592
SEQUENCE:3
DTSTAMP:20260419T212011Z
URL:https://chamber.hrchamber.org/events/details/parkinson-s-disease-clinic-6592
END:VEVENT

END:VCALENDAR
