BEGIN:VCALENDAR
VERSION:2.0
PRODID:-//ChamberMaster//Event Calendar 2.0//EN
METHOD:PUBLISH
X-PUBLISHED-TTL:P3D
REFRESH-INTERVAL:P3D
CALSCALE:GREGORIAN
BEGIN:VEVENT
DTSTART:20170629T201500Z
DTEND:20170629T214500Z
X-MICROSOFT-CDO-ALLDAYEVENT:FALSE
SUMMARY:Paris Can Wait
DESCRIPTION:Anne (Diane Lane) is at a crossroads in her life. Married to a successful but inattentive movie producer (Alec Baldwin)\, she unexpectedly finds herself taking a car trip from Cannes to Paris with her husband's business associate (Arnaud Viard). What should be a seven-hour drive turns into a carefree two-day adventure replete with diversions involving picturesque sights\, fine food and wine\, humor\, wisdom and romance\, reawakening Anne's senses and giving her a new lust for life.
X-ALT-DESC;FMTTYPE=text/html:Anne (Diane Lane) is at a crossroads in her life. Married to a successful but inattentive movie producer (Alec Baldwin)\, she unexpectedly finds herself taking a car trip from Cannes to Paris with her husband&#39\;s business associate (Arnaud Viard). What should be a seven-hour drive turns into a carefree two-day adventure replete with diversions involving picturesque sights\, fine food and wine\, humor\, wisdom and romance\, reawakening Anne&#39\;s senses and giving her a new lust for life.
LOCATION:Court Square Theater 41-F Court Square Harrisonburg\, VA 22801
UID:e.2338.3116
SEQUENCE:3
DTSTAMP:20260419T220551Z
URL:https://chamber.hrchamber.org/events/details/paris-can-wait-06-29-2017-3116
END:VEVENT

END:VCALENDAR
