BEGIN:VCALENDAR
VERSION:2.0
PRODID:-//ChamberMaster//Event Calendar 2.0//EN
METHOD:PUBLISH
X-PUBLISHED-TTL:P3D
REFRESH-INTERVAL:P3D
CALSCALE:GREGORIAN
BEGIN:VEVENT
DTSTART:20160728T230000Z
DTEND:20160729T000000Z
X-MICROSOFT-CDO-ALLDAYEVENT:FALSE
SUMMARY:Paralympics @ Central Library
DESCRIPTION:Josh Pate will talk about the Paralympic Games\, disability sport\, and what goes into planning such a large event. This is part of the Adult Reading Program\; older youth are invited to attend.
X-ALT-DESC;FMTTYPE=text/html:Josh Pate will talk about the Paralympic Games\, disability sport\, and what goes into planning such a large event. This is part of the Adult Reading Program\; older youth are invited to attend.
LOCATION:Central Library
UID:e.2338.441
SEQUENCE:3
DTSTAMP:20260422T014945Z
URL:https://chamber.hrchamber.org/events/details/paralympics-central-library-07-28-2016-441
END:VEVENT

END:VCALENDAR
