BEGIN:VCALENDAR
VERSION:2.0
PRODID:-//ChamberMaster//Event Calendar 2.0//EN
METHOD:PUBLISH
X-PUBLISHED-TTL:P3D
REFRESH-INTERVAL:P3D
CALSCALE:GREGORIAN
BEGIN:VEVENT
DTSTART:20180224T230000Z
DTEND:20180225T010000Z
X-MICROSOFT-CDO-ALLDAYEVENT:FALSE
SUMMARY:Paint Your Pet Portrait at The Village Arts Center
DESCRIPTION:Wouldn't you love to have an original painting of YOUR PET?!? And wouldn't it be great if YOU were the one who painted it? We can help make that happen!\n\n\n\nKatie Walkely will work with the digital image that you send with your class registration. She will prepare a custom designed canvas for you to paint and provide all the instruction you need to create an original acrylic 11x14 painting of your pet! Yes ... You really CAN do this!\n\n\n\nThe fee for this class is only $45 per person\, and we are sure that this class will fill QUICKLY. There is only room for 8 participants\, so call soon to register and receive your instructions for how to submit a digital image of your pet.\n\n\n\nClick here for more details.\n\n\n\nThe Village Arts Center is a privately owned community and arts center located on Main Street in Broadway\, Virginia.  It is our goal to provide a safe\, comfortable environment for our guests to relax\, share\, learn\, and develop relationships with like-minded folks in their community.\n\n\n\nTake an art class\, join us for a family event\, sign up for music lessons\, plan a special event\, share your skills\, or just come by to say hello!  \n\n\n\n We are only 12 miles north of Harrisonburg\, and the ride down Route 42 is peaceful.  While you're in Broadway\, plan to visit the spacious parks\, family friendly restaurants\, quaint shops\, nursery and garden center\, cozy library\, local farmer's market and more!
X-ALT-DESC;FMTTYPE=text/html:<p><span style="font-size:14px\;"><span style="font-family: arial\;"><span style="color: rgb(75\, 79\, 86)\; font-weight: 400\;">Wouldn&#39\;t you love to have an original painting of YOUR PET?!? And wouldn&#39\;t it be great if YOU were the one who painted it? We can help make that happen!</span><br />\n<br />\n<span style="color: rgb(75\, 79\, 86)\; font-weight: 400\;">Katie Walkely will work with the digital image that you send with your class registration. She will prepare a custom designed canvas for you to paint and provide all the instruction you need to create an original acrylic 11x14 painting of your pet! Yes ... You really CAN do this!</span><br />\n<br />\n<span style="color: rgb(75\, 79\, 86)\; font-weight: 400\;">The fee for this class is only $45 per person\, and we are sure that this class will fill QUICKLY. There is only room for 8 participants\, so call soon to register and receive your instructions for how to submit a digital image of your pet.</span><br />\n<br />\n<a href="https://www.thevillageartscenter.com/store/p96/Paint_Your_Pet_Portrait__2%2F24_%40_6%3A00__%2445.html?utm_source=Friends+of+the+Village+Arts+Center&amp\;utm_campaign=03414abf2f-EMAIL_CAMPAIGN_2018_02_17&amp\;utm_medium=email&amp\;utm_term=0_e3cd0de18c-03414abf2f-63078191" target="_blank">Click here</a> for more details.<br />\n<br />\n<em>The Village Arts Center is a privately owned community and arts center located on Main Street in Broadway\, Virginia.&nbsp\; It is our goal to provide a safe\, comfortable environment for our guests to relax\, share\, learn\, and develop relationships with like-minded folks in their community.<br />\n<br />\nTake an art class\, join us for a family event\, sign up for music lessons\, plan a special event\, share your skills\, or just come by to say hello!&nbsp\;&nbsp\;</em><br />\n<br />\n<em>&#8203\;We are only 12 miles north of Harrisonburg\, and the ride down Route 42 is peaceful.&nbsp\; While you&#39\;re in Broadway\, plan to visit the spacious parks\, family friendly restaurants\, quaint shops\, nursery and garden center\, cozy library\, local farmer&#39\;s market and more!</em></span></span></p>\n
LOCATION:The Village Arts Center 141 South Main Street Broadway\, VA 22815
UID:e.2338.3655
SEQUENCE:3
DTSTAMP:20260420T101146Z
URL:https://chamber.hrchamber.org/events/details/paint-your-pet-portrait-at-the-village-arts-center-3655
END:VEVENT

END:VCALENDAR
