BEGIN:VCALENDAR
VERSION:2.0
PRODID:-//ChamberMaster//Event Calendar 2.0//EN
METHOD:PUBLISH
X-PUBLISHED-TTL:P3D
REFRESH-INTERVAL:P3D
CALSCALE:GREGORIAN
BEGIN:VEVENT
DTSTART:20200119T183000Z
DTEND:20200119T203000Z
X-MICROSOFT-CDO-ALLDAYEVENT:FALSE
SUMMARY:Pablo Cuevas Retirement Reception
DESCRIPTION:Reception in honor of the retirement of Pablo Cuevas from the Board of Supervisors.  Join us to celebrate all that Pablo has contributed to the Harrisonburg and Rockingham communities.
X-ALT-DESC;FMTTYPE=text/html:Reception in honor of the retirement of Pablo Cuevas from the Board of Supervisors.&nbsp\; Join us to celebrate all that Pablo has contributed to the Harrisonburg and Rockingham communities.&nbsp\;
LOCATION:Timberville Community Center 233 McCauley Ave Timberville\, VA 22853
UID:e.2338.8525
SEQUENCE:3
DTSTAMP:20260419T120247Z
URL:https://chamber.hrchamber.org/events/details/pablo-cuevas-retirement-reception-8525
END:VEVENT

END:VCALENDAR
