BEGIN:VCALENDAR
VERSION:2.0
PRODID:-//ChamberMaster//Event Calendar 2.0//EN
METHOD:PUBLISH
X-PUBLISHED-TTL:P3D
REFRESH-INTERVAL:P3D
CALSCALE:GREGORIAN
BEGIN:VEVENT
DTSTART:20180531T120000Z
DTEND:20180531T200000Z
X-MICROSOFT-CDO-ALLDAYEVENT:FALSE
SUMMARY:OSHA 10 "PLUS"
DESCRIPTION:The Blue Ridge Safety Association is excited to offer this special OSHA 10 "Plus" Course.\n\nMay 31 & June 1 from 8 am-4 pm\n\nThe 10-hour General Industry course will include:\n\n? Introduction to OSHA\n\n? Walking and Working Surfaces\n\n? Exit Routes and Fire Prevention Plans\n\n? Electrical\n\n? Personal Protective Equipment\n\n? Hazard Communication\n\n? Machine Guarding\n\n? Hazardous Materials\n\n? Bloodborne Pathogens\n\nAt the end of the OSHA 10 course\, on June 1st\, a special presentation will be held by OSHA litigation attorney\, Travis Vance\, on the topic:\n\nOSHA Inspections and Citation Defense   Everything that managers and supervisors say can and will be used against them and the company in an OSHA inspection. Do your managers and supervisors know what to do when OSHA knocks?\n\n\n\nSpace is limited\, so sign up now!\n\nFee per student: $110 (This includes lunches).\n\nTicket includes both dates.
X-ALT-DESC;FMTTYPE=text/html:<p><strong>The Blue Ridge Safety Association is excited to offer this special OSHA 10 &ldquo\;Plus&rdquo\; Course.</strong></p>\n\n<p><u><em><strong>May 31 &amp\; June 1 from 8 am-4 pm</strong></em></u></p>\n\n<p>The 10-hour General Industry course will include:<br />\n? Introduction to OSHA<br />\n? Walking and Working Surfaces<br />\n? Exit Routes and Fire Prevention Plans<br />\n? Electrical<br />\n? Personal Protective Equipment<br />\n? Hazard Communication<br />\n? Machine Guarding<br />\n? Hazardous Materials<br />\n? Bloodborne Pathogens</p>\n\n<p>At the end of the OSHA 10 course\, on June 1st\, a special presentation will be held by OSHA litigation attorney\, Travis Vance\, on the topic:<br />\n<em>OSHA Inspections and Citation Defense &ndash\; Everything that managers and supervisors say can and will be used against them and the company in an OSHA inspection. Do your managers and supervisors know what to do when OSHA knocks?</em></p>\n\n<p><br />\nSpace is limited\, so sign up now!</p>\n\n<p>Fee per student: $110 (This includes lunches).</p>\n\n<p>Ticket includes both dates.</p>\n
LOCATION:DoubleTree by Hilton Harrisonburg 1400 East Market St. Harrisonburg\, VA 22801
UID:e.2338.4762
SEQUENCE:3
DTSTAMP:20260420T131256Z
URL:https://chamber.hrchamber.org/events/details/osha-10-plus-4762
END:VEVENT

END:VCALENDAR
