BEGIN:VCALENDAR
VERSION:2.0
PRODID:-//ChamberMaster//Event Calendar 2.0//EN
METHOD:PUBLISH
X-PUBLISHED-TTL:P3D
REFRESH-INTERVAL:P3D
CALSCALE:GREGORIAN
BEGIN:VEVENT
DTSTART:20190626T193000Z
DTEND:20190626T210000Z
X-MICROSOFT-CDO-ALLDAYEVENT:FALSE
SUMMARY:Anniversary Open House - Maxwell Speakers Club Harrisonburg
DESCRIPTION:Register to join us for this limited-seating One Year Anniversary Open House and experience a full club session of the Maxwell Method of Speaking\, Principle 1: The Power of Stories.  Although each club session in this continuity program stands alone\, Principle 1: The Power of Stories is so foundational we offer it once each quarter as an orientation. \n\n\n\nLearn how John Maxwell became the highest paid non-celebrity speaker in the world and why he has to turn down hundreds of speaking engagements every year. \n\n\n\nReview our session from start to finish and leave with this foundational curriculum as a special bonus!
X-ALT-DESC;FMTTYPE=text/html:Register to join us for this limited-seating One Year Anniversary Open House and experience a full club session of the Maxwell Method of Speaking\, Principle 1: The Power of Stories.&nbsp\; Although each club session in this continuity program stands alone\, Principle 1: The Power of Stories is so foundational we offer it once each quarter as an orientation.&nbsp\;<br />\n<br />\nLearn how John Maxwell became the highest paid non-celebrity speaker in the world and why he has to turn down hundreds of speaking engagements every year.&nbsp\;<br />\n<br />\nReview our session from start to finish and leave with this foundational curriculum as a special bonus!
LOCATION:Harrisonburg-Rockingham Chamber of Commerce
UID:e.2338.6065
SEQUENCE:3
DTSTAMP:20260419T211809Z
URL:https://chamber.hrchamber.org/events/details/open-house-maxwell-speakers-club-harrisonburg-6065
END:VEVENT

END:VCALENDAR
