BEGIN:VCALENDAR
VERSION:2.0
PRODID:-//ChamberMaster//Event Calendar 2.0//EN
METHOD:PUBLISH
X-PUBLISHED-TTL:P3D
REFRESH-INTERVAL:P3D
CALSCALE:GREGORIAN
BEGIN:VEVENT
DTSTART:20170909T140000Z
DTEND:20170909T220000Z
X-MICROSOFT-CDO-ALLDAYEVENT:FALSE
SUMMARY:Open House at Dancing with Karen
DESCRIPTION:Find out more about partner dancing in our area! ~ Refreshments ~ Door prizes ~ Mini Lessons Every Hour from 11:00 - 5:00 ~ Performances and Demos throughout the day * ALL FREE * ALL DAY * Everything winds up to a great dance party 7-9 p.m.
X-ALT-DESC;FMTTYPE=text/html:Find out more about partner dancing in our area! ~ Refreshments ~ Door prizes ~ Mini Lessons Every Hour from 11:00 - 5:00 ~ Performances and Demos throughout the day * ALL FREE * ALL DAY * Everything winds up to a great dance party 7-9 p.m.
LOCATION:Dancing with Karen studio 77 E. Market St. Harrisonburg VA 22801
UID:e.2338.3232
SEQUENCE:3
DTSTAMP:20260420T011159Z
URL:https://chamber.hrchamber.org/events/details/open-house-at-dancing-with-karen-3232
END:VEVENT

END:VCALENDAR
