BEGIN:VCALENDAR
VERSION:2.0
PRODID:-//ChamberMaster//Event Calendar 2.0//EN
METHOD:PUBLISH
X-PUBLISHED-TTL:P3D
REFRESH-INTERVAL:P3D
CALSCALE:GREGORIAN
BEGIN:VEVENT
DTSTART:20190320T170000Z
DTEND:20190320T200000Z
X-MICROSOFT-CDO-ALLDAYEVENT:FALSE
SUMMARY:Open House
DESCRIPTION:Redeemer Classical School's mission is to partner with parents to provide for the Christian discipleship of children through a classical education for the greater glory of God. We seek to prepare students to be thoughtful\, articulate\, and virtuous life-long learners by having them interact with the greatest ideas\, thinkers\, and texts ever produced in Western Civilization. We invite you to visit our campus\, talk with our teachers\, learn more about our unique curriculum\, and see the Redeemer difference for yourself.
X-ALT-DESC;FMTTYPE=text/html:Redeemer Classical School&#39\;s <strong>mission is to partner with parents to provide for the Christian discipleship of children through a classical education for the greater glory of God</strong>. We seek to prepare students to be thoughtful\, articulate\, and virtuous life-long learners by having them interact with the greatest ideas\, thinkers\, and texts ever produced in Western Civilization. We invite you to visit our campus\, talk with our teachers\, learn more about our unique curriculum\, and see the Redeemer difference for yourself.
LOCATION:1688 Indian Trail Road Keezletown\, VA 22832
UID:e.2338.6373
SEQUENCE:3
DTSTAMP:20260420T012805Z
URL:https://chamber.hrchamber.org/events/details/open-house-6373
END:VEVENT

END:VCALENDAR
