BEGIN:VCALENDAR
VERSION:2.0
PRODID:-//ChamberMaster//Event Calendar 2.0//EN
METHOD:PUBLISH
X-PUBLISHED-TTL:P3D
REFRESH-INTERVAL:P3D
CALSCALE:GREGORIAN
BEGIN:VEVENT
DTSTART:20171020T130000Z
DTEND:20171021T000000Z
X-MICROSOFT-CDO-ALLDAYEVENT:FALSE
SUMMARY:Antiques Estate Auction at Green Valley Auctions
DESCRIPTION:Featuring the Hilda Monroe home of Charlottesville\, VA\; The Estate of a prominent James Madison University Professor and World Traveller who packed items away for decades\; Plus others. \n\n\n\nSale includes great 6' x 8' Redwood free-form table with root base\, early English highboy\, large lot of Oriental carved furniture\, artwork\, lot of Oriental accessories\, clocks Mid-Century Modern\, plus much\, much more!\n\n\n\nVisit  http://www.greenvalleyauctions.com/venue-events/october-20-2017-estate-auction/  for a complete listing\, updates\, photos\, gallery videos\, and more information.
X-ALT-DESC;FMTTYPE=text/html:Featuring the Hilda Monroe home of Charlottesville\, VA\; The Estate of a prominent James Madison University Professor and World Traveller who packed items away for decades\; Plus others.&nbsp\;<br />\n<br />\nSale includes great 6&#39\; x 8&#39\; Redwood free-form table with root base\, early English highboy\, large lot of Oriental carved furniture\, artwork\, lot of Oriental accessories\, clocks Mid-Century Modern\, plus much\, much more!<br />\n<br />\nVisit&nbsp\;&nbsp\;<a href="http://www.greenvalleyauctions.com/venue-events/october-20-2017-estate-auction/">http://www.greenvalleyauctions.com/venue-events/october-20-2017-estate-auction/</a>&nbsp\; for a complete listing\, updates\, photos\, gallery videos\, and more information.
LOCATION:Green Valley Auctions 2259 Green Valley Lane Mount Crawford\, Virginia 22841
UID:e.2338.3278
SEQUENCE:3
DTSTAMP:20260420T024359Z
URL:https://chamber.hrchamber.org/events/details/october-20-2017-antiques-estate-auction-3278
END:VEVENT

END:VCALENDAR
