BEGIN:VCALENDAR
VERSION:2.0
PRODID:-//ChamberMaster//Event Calendar 2.0//EN
METHOD:PUBLISH
X-PUBLISHED-TTL:P3D
REFRESH-INTERVAL:P3D
CALSCALE:GREGORIAN
BEGIN:VEVENT
DTSTART:20171231T214500Z
DTEND:20180101T010000Z
X-MICROSOFT-CDO-ALLDAYEVENT:FALSE
SUMMARY:NYE Glow Run presented by Generations Crossing
DESCRIPTION:Get ready for the best New Year's Eve of your life! The Glow Run 5K presented by Generations Crossing takes place just after sunset on New Year's Eve in downtown Harrisonburg.\n\n\n\nAt pre-race packet pickup\, you'll receive glow sticks\, glow necklaces and other glowing paraphernalia so you can be decked out and fully glowing on race day. You'll want to wear your brightest clothes and we'll take care of lighting up the course with black lights\, strobe lights and all the music you need to keep you motivated. It's perfect for friends wanting to start the evening off with the best party of the night AND families looking for an early evening activity for all ages.\n\n\nWarm up and stretches led by Breathe Pilates at 4:45pm.\n\n\n\n\n\n	\n		\n			\n			Post-race celebration at Pale Fire Brewing immediately following the 5K.\n			\n		\n	\n\n\n\n\n\nMore info at vamomentum.com.
X-ALT-DESC;FMTTYPE=text/html:<h2 style="font-style: italic\;"><span style="font-size: 14px\;">Get ready for the best New Year&#39\;s Eve of your life! The Glow Run 5K presented by Generations Crossing takes place just after sunset on New Year&#39\;s Eve in downtown Harrisonburg.<br />\n<br />\nAt pre-race packet pickup\, you&#39\;ll receive glow sticks\, glow necklaces and other glowing paraphernalia so you can be decked out and fully glowing on race day. You&#39\;ll want to wear your brightest clothes and we&#39\;ll take care of lighting up the course with black lights\, strobe lights and all the music you need to keep you motivated. It&#39\;s perfect for friends wanting to start the evening off with the best party of the night AND families looking for an early evening activity for all ages.</span></h2>\n<br />\n<span font-size:="" open="">Warm up and stretches led by Breathe Pilates at 4:45pm.</span>\n\n<div font-size:="" open="" style="color: rgb(68\, 68\, 68)\;">\n<div class="wsite-multicol" style="position: relative\; direction: ltr\;">\n<div class="wsite-multicol-table-wrap" style="margin: 0px -20px\;">\n<table class="wsite-multicol-table" style="position: relative\; border-collapse: collapse\; table-layout: fixed\; width: 760px\; border-width: 0px !important\; border-style: initial !important\; border-color: initial !important\; margin: 0px !important\; padding: 0px !important\;">\n	<tbody class="wsite-multicol-tbody">\n		<tr class="wsite-multicol-tr">\n			<td class="wsite-multicol-col" style="vertical-align: top\; padding: 0px 20px\; width: 340px\; border-width: 0px !important\; border-style: initial !important\; border-color: initial !important\; margin: 0px !important\;">\n			<div class="paragraph" style="word-wrap: break-word\; line-height: 1.5em\; padding: 0.5em 0px\; margin: 0px\; color: rgb(255\, 255\, 255)\;"><span style="color: rgb(0\, 0\, 0)\;">Post-race celebration at Pale Fire Brewing immediately following the 5K.</span></div>\n			</td>\n		</tr>\n	</tbody>\n</table>\n</div>\n</div>\n</div>\n\n<div font-size:="" open="" style="color: rgb(68\, 68\, 68)\;">More info at&nbsp\;<a href="http://vamomentum.com">vamomentum.com</a>.</div>\n
LOCATION:
UID:e.2338.3364
SEQUENCE:3
DTSTAMP:20260420T054715Z
URL:https://chamber.hrchamber.org/events/details/nye-glow-run-presented-by-generations-crossing-3364
END:VEVENT

END:VCALENDAR
