BEGIN:VCALENDAR
VERSION:2.0
PRODID:-//ChamberMaster//Event Calendar 2.0//EN
METHOD:PUBLISH
X-PUBLISHED-TTL:P3D
REFRESH-INTERVAL:P3D
CALSCALE:GREGORIAN
BEGIN:VEVENT
DTSTART:20150922T200000Z
DTEND:20150922T230000Z
X-MICROSOFT-CDO-ALLDAYEVENT:FALSE
SUMMARY:NSVR Graduate & Professional School Fair
DESCRIPTION:All area college students are invited to attend the Graduate & Professional School fair being hosted by the Northern Shenandoah Valley Regional Consortium (EMU\, JMU\, Bridgewater and Mary Baldwin). If you are considering graduate school in the near future\, this is a great opportunity to meet recruiters from across the country and learn about programs that might be a good fit for you. More than 100 graduate schools\, medical schools\, and law schools will be recruiting and providing information on their graduate programs. For more details\, visit https://www.jmu.edu/cap/fair/grad.shtml.
X-ALT-DESC;FMTTYPE=text/html:All area college students are invited to attend the Graduate &amp\; Professional School fair being hosted by the Northern Shenandoah Valley Regional Consortium (EMU\, JMU\, Bridgewater and Mary Baldwin). If you are considering graduate school in the near future\, this is a great opportunity to meet recruiters from across the country and learn about programs that might be a good fit for you. More than 100 graduate schools\, medical schools\, and law schools will be recruiting and providing information on their graduate programs. For more details\, visit https://www.jmu.edu/cap/fair/grad.shtml.
LOCATION:JMU Festival Conference and Student Center
UID:e.2338.292
SEQUENCE:3
DTSTAMP:20260424T161244Z
URL:https://chamber.hrchamber.org/events/details/nsvr-graduate-professional-school-fair-09-22-2015-292
END:VEVENT

END:VCALENDAR
