BEGIN:VCALENDAR
VERSION:2.0
PRODID:-//ChamberMaster//Event Calendar 2.0//EN
METHOD:PUBLISH
X-PUBLISHED-TTL:P3D
REFRESH-INTERVAL:P3D
CALSCALE:GREGORIAN
BEGIN:VEVENT
DTSTART:20170611T180000Z
DTEND:20170611T200000Z
X-MICROSOFT-CDO-ALLDAYEVENT:FALSE
SUMMARY:Norman: The Moderate Rise and Tragic Fall of a New York Fixer
DESCRIPTION:Norman (Richard Gere)\, a New York fixer\, knows the right people and can get things done. When an Israeli dignitary named Eshel (Lior Ashkenazi) comes to the city\, Norman decides to impress the man by buying him some very expensive shoes. It works and he establishes a strong connection to the man\, but a few years later\, when Eshel becomes the Israel prime minister\, Norman can't communicate with him anymore\, and this threatens to destroy his reputation.
X-ALT-DESC;FMTTYPE=text/html:Norman (Richard Gere)\, a New York fixer\, knows the right people and can get things done. When an Israeli dignitary named Eshel (Lior Ashkenazi) comes to the city\, Norman decides to impress the man by buying him some very expensive shoes. It works and he establishes a strong connection to the man\, but a few years later\, when Eshel becomes the Israel prime minister\, Norman can&#39\;t communicate with him anymore\, and this threatens to destroy his reputation.
LOCATION:Court Square Theater 41-F Court Square Harrisonburg\, VA 22801
UID:e.2338.3006
SEQUENCE:3
DTSTAMP:20260419T205430Z
URL:https://chamber.hrchamber.org/events/details/norman-the-moderate-rise-and-tragic-fall-of-a-new-york-fixer-06-11-2017-3006
END:VEVENT

END:VCALENDAR
