BEGIN:VCALENDAR
VERSION:2.0
PRODID:-//ChamberMaster//Event Calendar 2.0//EN
METHOD:PUBLISH
X-PUBLISHED-TTL:P3D
REFRESH-INTERVAL:P3D
CALSCALE:GREGORIAN
BEGIN:VEVENT
DTSTART:20190612T160000Z
DTEND:20190612T170000Z
X-MICROSOFT-CDO-ALLDAYEVENT:FALSE
SUMMARY:Noon Music Series
DESCRIPTION:Creation is the theme of the 27th annual Shenandoah Valley Bach Festival\, to be held in Harrisonburg June 9-16\, 2019. Festival musicians present free noon music concerts Monday through Saturday featuring a diverse selection of works for small ensembles.  A full list of artists and repertoire is available at www.svbachfestival.org.
X-ALT-DESC;FMTTYPE=text/html:<p><span style="background-color:transparent\; color:rgb(0\, 0\, 0)\; font-family:cambria\; font-size:11pt">Creation is the theme of the 27</span><span style="background-color:transparent\; color:rgb(0\, 0\, 0)\; font-family:cambria\; font-size:6.6pt">th</span><span style="background-color:transparent\; color:rgb(0\, 0\, 0)\; font-family:cambria\; font-size:11pt"> annual Shenandoah Valley Bach Festival\, to be held in Harrisonburg June 9-16\, 2019. Festival musicians present free noon&nbsp\;music concerts Monday through Saturday featuring a diverse selection of works for small ensembles. &nbsp\;A full list of artists and repertoire is available at www.svbachfestival.org.</span></p>\n\n<div>&nbsp\;</div>\n
LOCATION:Asbury United Methodist Church 205 S. Main Street Harrisonburg\, VA 22801
UID:e.2338.6552
SEQUENCE:3
DTSTAMP:20260419T211900Z
URL:https://chamber.hrchamber.org/events/details/noon-chamber-music-series-06-12-2019-6552
END:VEVENT

END:VCALENDAR
