BEGIN:VCALENDAR
VERSION:2.0
PRODID:-//ChamberMaster//Event Calendar 2.0//EN
METHOD:PUBLISH
X-PUBLISHED-TTL:P3D
REFRESH-INTERVAL:P3D
CALSCALE:GREGORIAN
BEGIN:VEVENT
DTSTART:20200123T220000Z
DTEND:20200124T000000Z
X-MICROSOFT-CDO-ALLDAYEVENT:FALSE
SUMMARY:Non-Profit Showcase
DESCRIPTION:Join us to network and visit with nonprofits to discuss how we can collaborate and build stronger partnerships with those serving our community in 2020. \n\n\n\nAre you apart of a non-profit that would like to participate? Click the register button above and secure your complimentary booth space. All Booth spaces are filled.
X-ALT-DESC;FMTTYPE=text/html:<span style="font-family:verdana\;"><span style="font-size:14px\;"><span style="font-variant-ligatures: no-common-ligatures\; letter-spacing: 2.898px\; text-align: center\;">Join us to network and visit with nonprofits to discuss&nbsp\;how we can collaborate and build stronger partnerships&nbsp\;with those serving our community in 2020.&nbsp\;<br />\n<br />\n<em>Are you apart of a non-profit that would like to participate? Click the register button above and secure your complimentary booth space. <u>All Booth spaces are filled.</u></em></span></span></span><br />\n&nbsp\;
LOCATION:Massanetta Springs 712 Massanetta Springs Road Harrisonburg\, VA 22801
UID:e.2338.8252
SEQUENCE:3
DTSTAMP:20260419T120247Z
URL:https://chamber.hrchamber.org/events/details/non-profit-showcase-8252
END:VEVENT

END:VCALENDAR
