BEGIN:VCALENDAR
VERSION:2.0
PRODID:-//ChamberMaster//Event Calendar 2.0//EN
METHOD:PUBLISH
X-PUBLISHED-TTL:P3D
REFRESH-INTERVAL:P3D
CALSCALE:GREGORIAN
BEGIN:VEVENT
DTSTART:20190117T220000Z
DTEND:20190118T000000Z
X-MICROSOFT-CDO-ALLDAYEVENT:FALSE
SUMMARY:Non-Profit Showcase
DESCRIPTION:Join us to network and visit with nonprofits to discuss how we can collaborate and build stronger partnerships with those serving our community in 2019. \n\n\n\nBooth Spaces are SOLD OUT.\n\nAre you apart of a non-profit that would like to participate? Click "register now" and secure your complimentary booth space. Only 0 spaces currently available.
X-ALT-DESC;FMTTYPE=text/html:<span style="font-size:12px\;"><span style="font-family:tahoma\;"><span style="color: rgb(34\, 34\, 34)\; font-variant-ligatures: no-common-ligatures\; letter-spacing: 2.898px\; text-align: center\; background-color: rgb(235\, 236\, 237)\;">Join us to network and visit with nonprofits to discuss&nbsp\;how we can collaborate and build stronger partnerships&nbsp\;with those serving our community in 2019.&nbsp\;<br />\n<br />\nBooth Spaces are SOLD OUT.<br />\n<s>Are you apart of a non-profit that would like to participate? Click &quot\;register now&quot\; and secure your complimentary booth space. Only 0 spaces currently available.&nbsp\;&nbsp\;</s></span></span></span>
LOCATION:DoubleTree by Hilton 1400 East Market Street\, Harrisonburg
UID:e.2338.6135
SEQUENCE:3
DTSTAMP:20260420T043245Z
URL:https://chamber.hrchamber.org/events/details/non-profit-showcase-6135
END:VEVENT

END:VCALENDAR
