BEGIN:VCALENDAR
VERSION:2.0
PRODID:-//ChamberMaster//Event Calendar 2.0//EN
METHOD:PUBLISH
X-PUBLISHED-TTL:P3D
REFRESH-INTERVAL:P3D
CALSCALE:GREGORIAN
BEGIN:VEVENT
DTSTART:20170119T220000Z
DTEND:20170120T000000Z
X-MICROSOFT-CDO-ALLDAYEVENT:FALSE
SUMMARY:Non Profit BAH Event RSVP
DESCRIPTION:Non-Profit Business After Hours hosted by MillerCoors
X-ALT-DESC;FMTTYPE=text/html:Non-Profit Business After Hours hosted by MillerCoors
LOCATION:MillerCoors 5135 SE Side Hwy\, Elkton\, VA 22827
UID:e.2338.1520
SEQUENCE:3
DTSTAMP:20260419T152417Z
URL:https://chamber.hrchamber.org/events/details/non-profit-bah-event-rsvp-1520
END:VEVENT

END:VCALENDAR
