BEGIN:VCALENDAR
VERSION:2.0
PRODID:-//ChamberMaster//Event Calendar 2.0//EN
METHOD:PUBLISH
X-PUBLISHED-TTL:P3D
REFRESH-INTERVAL:P3D
CALSCALE:GREGORIAN
BEGIN:VEVENT
DTSTART:20170119T220000Z
DTEND:20170120T000000Z
X-MICROSOFT-CDO-ALLDAYEVENT:FALSE
SUMMARY:Non-Profit BAH
DESCRIPTION:Please join us on Thursday\, January 19th\, at the Non-Profit Business After Hours.
X-ALT-DESC;FMTTYPE=text/html:Please join us on Thursday\, January 19th\, at the Non-Profit Business After Hours.&nbsp\;
LOCATION:The Non-Profit BAH will be hosted by MillerCoors Shenandoah Brewery.
UID:e.2338.1519
SEQUENCE:3
DTSTAMP:20260419T140338Z
URL:https://chamber.hrchamber.org/events/details/non-profit-bah-1519
END:VEVENT

END:VCALENDAR
