BEGIN:VCALENDAR
VERSION:2.0
PRODID:-//ChamberMaster//Event Calendar 2.0//EN
METHOD:PUBLISH
X-PUBLISHED-TTL:P3D
REFRESH-INTERVAL:P3D
CALSCALE:GREGORIAN
BEGIN:VEVENT
DTSTART;VALUE=DATE:20181126
DTEND;VALUE=DATE:20181127
TRANSP:TRANSPARENT
X-MICROSOFT-CDO-ALLDAYEVENT:TRUE
SUMMARY:Night of Giving for Hope Distributed
DESCRIPTION:Come to a night of Giving for Hope Distributed.  Featuring 3 in 1 Quartet and Shelley & the Cornerstones in concert.  Sunday December 2nd 6 - 8 p.m.  Light Refreshments start at 5:30.  Canned Good donations appreciated.  It will be held at Cornerstone Christian School\, off Rt. 11 across from BBQ Ranch\, Harrisonburg\, VA.  Any questions call 578-3510.
X-ALT-DESC;FMTTYPE=text/html:Come to a night of Giving for Hope Distributed.&nbsp\; Featuring 3 in 1 Quartet and Shelley &amp\; the Cornerstones in concert.&nbsp\; Sunday December 2nd 6 - 8 p.m.&nbsp\; Light Refreshments start at 5:30.&nbsp\; Canned Good donations appreciated.&nbsp\; It will be held at Cornerstone Christian School\, off Rt. 11 across from BBQ Ranch\, Harrisonburg\, VA.&nbsp\; Any questions call 578-3510.&nbsp\;&nbsp\;
LOCATION:Cornerstone Christian School\, Rt. 11 across from BBQ Ranch\, Harrisonburg\, VA
UID:e.2338.6121
SEQUENCE:3
DTSTAMP:20260420T074905Z
URL:https://chamber.hrchamber.org/events/details/night-of-giving-for-hope-distributed-11-26-2018-6121
END:VEVENT

END:VCALENDAR
