BEGIN:VCALENDAR
VERSION:2.0
PRODID:-//ChamberMaster//Event Calendar 2.0//EN
METHOD:PUBLISH
X-PUBLISHED-TTL:P3D
REFRESH-INTERVAL:P3D
CALSCALE:GREGORIAN
BEGIN:VEVENT
DTSTART:20181201T000000Z
DTEND:20181201T040000Z
X-MICROSOFT-CDO-ALLDAYEVENT:FALSE
SUMMARY:Night at the Museum
DESCRIPTION:Night at the Museum is a festive event attended by over 200 museum supporters and local business leaders to benefit Explore More Discovery Museum. Guests will enjoy a seasonal silent auction\, live raffle\, and delicious food and beverage. Favorite local restaurants in the downtown culinary district serve the culinary delights. Register at www.iexploremore.com/night
X-ALT-DESC;FMTTYPE=text/html:Night at the Museum is a festive event attended by over 200 museum supporters and local business leaders to benefit Explore More Discovery Museum. Guests will enjoy a seasonal silent auction\, live raffle\, and delicious food and beverage. Favorite local restaurants in the downtown culinary district serve the culinary delights. Register at www.iexploremore.com/night
LOCATION:Explore More Discovery Museum 150 South Main Street Harrisonburg\, VA\, 22801
UID:e.2338.3712
SEQUENCE:3
DTSTAMP:20260420T074808Z
URL:https://chamber.hrchamber.org/events/details/night-at-the-museum-12-01-2018-3712
END:VEVENT

END:VCALENDAR
