BEGIN:VCALENDAR
VERSION:2.0
PRODID:-//ChamberMaster//Event Calendar 2.0//EN
METHOD:PUBLISH
X-PUBLISHED-TTL:P3D
REFRESH-INTERVAL:P3D
CALSCALE:GREGORIAN
BEGIN:VEVENT
DTSTART:20160601T170000Z
DTEND:20160601T220000Z
X-MICROSOFT-CDO-ALLDAYEVENT:FALSE
SUMMARY:NEXT STEP Fair 2016
DESCRIPTION:Find your path to success! Come out to talk with various community partners including adult education\, literacy\, universities\, job specific training programs and other supportive services! Free materials and refreshments provided!
X-ALT-DESC;FMTTYPE=text/html:Find your path to success! Come out to talk with various community partners including adult education\, literacy\, universities\, job specific training programs and other supportive services! Free materials and refreshments provided!
LOCATION:Plecker Center\, Blue Ridge Community College
UID:e.2338.404
SEQUENCE:3
DTSTAMP:20260422T032108Z
URL:https://chamber.hrchamber.org/events/details/next-step-fair-2016-06-01-2016-404
END:VEVENT

END:VCALENDAR
