BEGIN:VCALENDAR
VERSION:2.0
PRODID:-//ChamberMaster//Event Calendar 2.0//EN
METHOD:PUBLISH
X-PUBLISHED-TTL:P3D
REFRESH-INTERVAL:P3D
CALSCALE:GREGORIAN
BEGIN:VEVENT
DTSTART:20160810T213000Z
DTEND:20160811T003000Z
X-MICROSOFT-CDO-ALLDAYEVENT:FALSE
SUMMARY:New Volunteer Orientation- Skyline Literacy
DESCRIPTION:Are you interested in volunteering at Skyline Literacy? This orientation will let you know the opportunities available to see what will best fit your schedule and interests! Call 540-433-0505 or e-mail skylitbarbie@gmail.com for more informatin or to register!
X-ALT-DESC;FMTTYPE=text/html:Are you interested in volunteering at Skyline Literacy? This orientation will let you know the opportunities available to see what will best fit your schedule and interests! Call 540-433-0505 or e-mail skylitbarbie@gmail.com for more informatin or to register!
LOCATION:Skyline Literacy 975 S. High St. Harrisonburg VA 22801
UID:e.2338.479
SEQUENCE:3
DTSTAMP:20260422T004804Z
URL:https://chamber.hrchamber.org/events/details/new-volunteer-orientation-skyline-literacy-08-10-2016-479
END:VEVENT

END:VCALENDAR
