BEGIN:VCALENDAR
VERSION:2.0
PRODID:-//ChamberMaster//Event Calendar 2.0//EN
METHOD:PUBLISH
X-PUBLISHED-TTL:P3D
REFRESH-INTERVAL:P3D
CALSCALE:GREGORIAN
BEGIN:VEVENT
DTSTART:20160628T213000Z
DTEND:20160629T000000Z
X-MICROSOFT-CDO-ALLDAYEVENT:FALSE
SUMMARY:New Volunteer Orientation- Skyline Literacy
DESCRIPTION:Our success depends on people like you to serve as volunteers for our literacy services. If you are interested in helping adult learners improve literacy skills in order to improve their lives\, two hours a week can make a huge difference!
X-ALT-DESC;FMTTYPE=text/html:Our success depends on people like you to serve as volunteers for our literacy services. If you are interested in helping adult learners improve literacy skills in order to improve their lives\, two hours a week can make a huge difference!
LOCATION:Skyline Literacy\, 975 S. High St. Harriosnburg VA 22801
UID:e.2338.433
SEQUENCE:3
DTSTAMP:20260422T032436Z
URL:https://chamber.hrchamber.org/events/details/new-volunteer-orientation-skyline-literacy-06-28-2016-433
END:VEVENT

END:VCALENDAR
