BEGIN:VCALENDAR
VERSION:2.0
PRODID:-//ChamberMaster//Event Calendar 2.0//EN
METHOD:PUBLISH
X-PUBLISHED-TTL:P3D
REFRESH-INTERVAL:P3D
CALSCALE:GREGORIAN
BEGIN:VEVENT
DTSTART:20170202T230000Z
DTEND:20170203T003000Z
X-MICROSOFT-CDO-ALLDAYEVENT:FALSE
SUMMARY:New Tutor Orientation
DESCRIPTION:Interested in volunteering at Skyline Literacy as a tutor - attend this tutor orientation to learn the basics and see how you might want to get involved!
X-ALT-DESC;FMTTYPE=text/html:Interested in volunteering at Skyline Literacy as a tutor - attend this tutor orientation to learn the basics and see how you might want to get involved!
LOCATION:Skyline Literacy 160 N. Mason St. Harrisonburg VA 22802
UID:e.2338.1546
SEQUENCE:3
DTSTAMP:20260421T151429Z
URL:https://chamber.hrchamber.org/events/details/new-tutor-orientation-1546
END:VEVENT

END:VCALENDAR
