BEGIN:VCALENDAR
VERSION:2.0
PRODID:-//ChamberMaster//Event Calendar 2.0//EN
METHOD:PUBLISH
X-PUBLISHED-TTL:P3D
REFRESH-INTERVAL:P3D
CALSCALE:GREGORIAN
BEGIN:VEVENT
DTSTART:20180809T193000Z
DTEND:20180809T210000Z
X-MICROSOFT-CDO-ALLDAYEVENT:FALSE
SUMMARY:Navigating your Chamber Membership - Open to Current\, New & Prospective Members
DESCRIPTION:Thank you for your membership! We want you to get the most value from your investment. Please join us for Membership Orientation. During this session we will walk you through the membership features that can maximize your visibility through your membership with the chamber.
X-ALT-DESC;FMTTYPE=text/html:Thank you for your membership! We want you to get the most value from your investment. Please join us for Membership Orientation. During this session we will walk you through the membership features that can maximize your visibility through your membership with the chamber.&nbsp\;
LOCATION:Harrisonburg Ford 3155 South Main Street Harrisonburg\, VA 22801
UID:e.2338.3214
SEQUENCE:3
DTSTAMP:20260420T120227Z
URL:https://chamber.hrchamber.org/events/details/navigating-your-chamber-membership-open-to-current-new-prospective-members-08-09-2018-3214
END:VEVENT

END:VCALENDAR
