BEGIN:VCALENDAR
VERSION:2.0
PRODID:-//ChamberMaster//Event Calendar 2.0//EN
METHOD:PUBLISH
X-PUBLISHED-TTL:P3D
REFRESH-INTERVAL:P3D
CALSCALE:GREGORIAN
BEGIN:VEVENT
DTSTART:20171214T203000Z
DTEND:20171214T220000Z
X-MICROSOFT-CDO-ALLDAYEVENT:FALSE
SUMMARY:Navigating your Chamber Membership - Attend Now and be Prepared for a Successful 2018!
DESCRIPTION:Thank you for your membership! We want you to get the most value from your investment. Please join us for a Membership Success Orientation.\n\n\n\nDuring this session we will walk you through the membership features that can maximize your visibility through your membership with the chamber.
X-ALT-DESC;FMTTYPE=text/html:Thank you for your membership! We want you to get the most value from your investment. Please join us for a Membership Success Orientation.<br />\n<br />\nDuring this session we will walk you through the membership features that can maximize your visibility through your membership with the chamber.&nbsp\;
LOCATION:First Bank & Trust 120 University Blvd Harrisonburg\, VA
UID:e.2338.3210
SEQUENCE:3
DTSTAMP:20260420T073105Z
URL:https://chamber.hrchamber.org/events/details/navigating-your-chamber-membership-attend-now-and-be-prepared-for-a-successful-2018-3210
END:VEVENT

END:VCALENDAR
