BEGIN:VCALENDAR
VERSION:2.0
PRODID:-//ChamberMaster//Event Calendar 2.0//EN
METHOD:PUBLISH
X-PUBLISHED-TTL:P3D
REFRESH-INTERVAL:P3D
CALSCALE:GREGORIAN
BEGIN:VEVENT
DTSTART:20181119T163000Z
DTEND:20181119T183000Z
X-MICROSOFT-CDO-ALLDAYEVENT:FALSE
SUMMARY:National Philanthropy Day Luncheon
DESCRIPTION:Sponsored by the Association of Fundraising Professionals (AFP) - Shenandoah Chapter\, this is the day when community members are recognized for their philanthropy.
X-ALT-DESC;FMTTYPE=text/html:Sponsored by the Association of Fundraising Professionals (AFP) - Shenandoah Chapter\, this is the day when community members are recognized for their philanthropy.<br />\n&nbsp\;
LOCATION:Hotel Madison and Shenandoah Valley Conference Center 710 S. Main Street\, Harrisonburg
UID:e.2338.6023
SEQUENCE:3
DTSTAMP:20260420T074827Z
URL:https://chamber.hrchamber.org/events/details/national-philanthropy-day-luncheon-6023
END:VEVENT

END:VCALENDAR
