BEGIN:VCALENDAR
VERSION:2.0
PRODID:-//ChamberMaster//Event Calendar 2.0//EN
METHOD:PUBLISH
X-PUBLISHED-TTL:P3D
REFRESH-INTERVAL:P3D
CALSCALE:GREGORIAN
BEGIN:VEVENT
DTSTART:20160312T213000Z
DTEND:20160313T020000Z
X-MICROSOFT-CDO-ALLDAYEVENT:FALSE
SUMMARY:Music Benefit
DESCRIPTION:MUSIC BENEFIT Saturday\, March 12\, 2016 at Fulks Run Elementary School Featuring The Walnut Ridge Boys at 5:00pm & The Crestman at 6:00pm Cake Auction to be held at 7:00 pm Doors open at 4:30 pm Music starts at 5:00 pm Food Available Proceeds will Benefit the Broadway Emergency Squad and The Bergton Branch Cake/Pie/Craft Donations Needed! Donated items for auction can be dropped off at the Squad Building or brought to Fulks Run School on the 12th More information call Joan 820-2726 or Rhonda Freed 810-7848
X-ALT-DESC;FMTTYPE=text/html:MUSIC BENEFIT Saturday\, March 12\, 2016 at Fulks Run Elementary School Featuring The Walnut Ridge Boys at 5:00pm &amp\; The Crestman at 6:00pm Cake Auction to be held at 7:00 pm Doors open at 4:30 pm Music starts at 5:00 pm Food Available Proceeds will Benefit the Broadway Emergency Squad and The Bergton Branch Cake/Pie/Craft Donations Needed! Donated items for auction can be dropped off at the Squad Building or brought to Fulks Run School on the 12th More information call Joan 820-2726 or Rhonda Freed 810-7848
LOCATION:Fulks Run Elementary School
UID:e.2338.355
SEQUENCE:3
DTSTAMP:20260422T075604Z
URL:https://chamber.hrchamber.org/events/details/music-benefit-03-12-2016-355
END:VEVENT

END:VCALENDAR
