BEGIN:VCALENDAR
VERSION:2.0
PRODID:-//ChamberMaster//Event Calendar 2.0//EN
METHOD:PUBLISH
X-PUBLISHED-TTL:P3D
REFRESH-INTERVAL:P3D
CALSCALE:GREGORIAN
BEGIN:VEVENT
DTSTART:20160723T170000Z
DTEND:20160723T180000Z
X-MICROSOFT-CDO-ALLDAYEVENT:FALSE
SUMMARY:Muscles with Russell @ Central Library
DESCRIPTION:Learn healthy habits with Russell!
X-ALT-DESC;FMTTYPE=text/html:Learn healthy habits with Russell!
LOCATION:Central Library\, 174 S. Main Street\, Harrisonburg
UID:e.2338.469
SEQUENCE:3
DTSTAMP:20260422T015109Z
URL:https://chamber.hrchamber.org/events/details/muscles-with-russell-central-library-07-23-2016-469
END:VEVENT

END:VCALENDAR
